Package: PREDAsampledata Version: 0.51.0 Maintainer: Francesco Ferrari MaintainerEmail: francesco.ferrari at ifom.eu git_url: https://git.bioconductor.org/packages/PREDAsampledata git_branch: devel git_last_commit: dd68e55 git_last_commit_date: 2025-10-29 09:32:39 -0500 (Wed, 29 Oct 2025)