Package: PCHiCdata Version: 1.39.0 Command: /home/biocbuild/bbs-3.23-bioc/R/bin/R CMD INSTALL PCHiCdata StartedAt: 2025-11-13 10:57:51 -0500 (Thu, 13 Nov 2025) EndedAt: 2025-11-13 10:58:32 -0500 (Thu, 13 Nov 2025) EllapsedTime: 41.2 seconds RetCode: 0 Status: OK