Package: PCHiCdata Version: 1.39.0 Command: /home/biocbuild/bbs-3.23-bioc/R/bin/R CMD check --install=check:PCHiCdata.install-out.txt --library=/home/biocbuild/bbs-3.23-bioc/R/site-library --timings PCHiCdata_1.39.0.tar.gz StartedAt: 2025-11-13 12:52:55 -0500 (Thu, 13 Nov 2025) EndedAt: 2025-11-13 12:54:31 -0500 (Thu, 13 Nov 2025) EllapsedTime: 96.1 seconds RetCode: 0 Status: WARNINGS CheckDir: PCHiCdata.Rcheck Warnings: 1