Package: PCHiCdata Version: 1.39.0 Command: /home/biocbuild/bbs-3.23-bioc/R/bin/R CMD build --keep-empty-dirs --no-resave-data PCHiCdata StartedAt: 2025-11-13 11:35:45 -0500 (Thu, 13 Nov 2025) EndedAt: 2025-11-13 11:37:34 -0500 (Thu, 13 Nov 2025) EllapsedTime: 109.2 seconds RetCode: 0 Status: OK PackageFile: PCHiCdata_1.39.0.tar.gz PackageFileSize: 183.3 MiB