Package: OnassisJavaLibs Version: 1.33.0 Command: /home/biocbuild/bbs-3.23-bioc/R/bin/R CMD INSTALL OnassisJavaLibs StartedAt: 2025-11-11 10:56:00 -0500 (Tue, 11 Nov 2025) EndedAt: 2025-11-11 10:56:02 -0500 (Tue, 11 Nov 2025) EllapsedTime: 2.6 seconds RetCode: 0 Status: OK