Package: OnassisJavaLibs Version: 1.33.0 Command: /home/biocbuild/bbs-3.23-bioc/R/bin/R CMD build --keep-empty-dirs --no-resave-data OnassisJavaLibs StartedAt: 2025-11-11 11:35:05 -0500 (Tue, 11 Nov 2025) EndedAt: 2025-11-11 11:35:17 -0500 (Tue, 11 Nov 2025) EllapsedTime: 12.0 seconds RetCode: 0 Status: OK PackageFile: OnassisJavaLibs_1.33.0.tar.gz PackageFileSize: 85.26 MiB