Package: ObMiTi Version: 1.19.0 Command: /home/biocbuild/bbs-3.23-bioc/R/bin/R CMD check --install=check:ObMiTi.install-out.txt --library=/home/biocbuild/bbs-3.23-bioc/R/site-library --timings ObMiTi_1.19.0.tar.gz StartedAt: 2025-11-11 12:46:13 -0500 (Tue, 11 Nov 2025) EndedAt: 2025-11-11 12:49:17 -0500 (Tue, 11 Nov 2025) EllapsedTime: 183.7 seconds RetCode: 0 Status: OK CheckDir: ObMiTi.Rcheck Warnings: 0