Package: ObMiTi Version: 1.19.0 Command: /home/biocbuild/bbs-3.23-bioc/R/bin/R CMD build --keep-empty-dirs --no-resave-data ObMiTi StartedAt: 2025-11-13 11:34:51 -0500 (Thu, 13 Nov 2025) EndedAt: 2025-11-13 11:35:32 -0500 (Thu, 13 Nov 2025) EllapsedTime: 41.1 seconds RetCode: 0 Status: OK PackageFile: ObMiTi_1.19.0.tar.gz PackageFileSize: 46.74 KiB