Package: Neve2006 Version: 0.49.0 Command: /home/biocbuild/bbs-3.23-bioc/R/bin/R CMD INSTALL Neve2006 StartedAt: 2025-11-11 10:57:31 -0500 (Tue, 11 Nov 2025) EndedAt: 2025-11-11 10:57:47 -0500 (Tue, 11 Nov 2025) EllapsedTime: 16.5 seconds RetCode: 0 Status: OK