Package: Neve2006 Version: 0.49.0 Command: /home/biocbuild/bbs-3.23-bioc/R/bin/R CMD check --install=check:Neve2006.install-out.txt --library=/home/biocbuild/bbs-3.23-bioc/R/site-library --timings Neve2006_0.49.0.tar.gz StartedAt: 2025-11-11 12:45:18 -0500 (Tue, 11 Nov 2025) EndedAt: 2025-11-11 12:47:09 -0500 (Tue, 11 Nov 2025) EllapsedTime: 111.5 seconds RetCode: 0 Status: OK CheckDir: Neve2006.Rcheck Warnings: 0