Package: NestLink Version: 1.27.0 Command: /home/biocbuild/bbs-3.23-bioc/R/bin/R CMD build --keep-empty-dirs --no-resave-data NestLink StartedAt: 2025-11-11 11:33:46 -0500 (Tue, 11 Nov 2025) EndedAt: 2025-11-11 11:37:46 -0500 (Tue, 11 Nov 2025) EllapsedTime: 240.0 seconds RetCode: 0 Status: OK PackageFile: NestLink_1.27.0.tar.gz PackageFileSize: 6.452 MiB