Package: NestLink Version: 1.27.0 Maintainer: Lennart Opitz MaintainerEmail: lopitz at fgcz.ethz.ch git_url: https://git.bioconductor.org/packages/NestLink git_branch: devel git_last_commit: e814733 git_last_commit_date: 2025-10-29 10:01:09 -0500 (Wed, 29 Oct 2025)