Package: NanoporeRNASeq Version: 1.21.0 Maintainer: Ying Chen MaintainerEmail: chen_ying at gis.a-star.edu.sg git_url: https://git.bioconductor.org/packages/NanoporeRNASeq git_branch: devel git_last_commit: 6c1af5c git_last_commit_date: 2025-10-29 10:02:58 -0500 (Wed, 29 Oct 2025)