Package: MouseGastrulationData Version: 1.25.0 Command: /home/biocbuild/bbs-3.23-bioc/R/bin/R CMD INSTALL MouseGastrulationData StartedAt: 2025-11-11 11:03:11 -0500 (Tue, 11 Nov 2025) EndedAt: 2025-11-11 11:03:41 -0500 (Tue, 11 Nov 2025) EllapsedTime: 30.8 seconds RetCode: 0 Status: OK