Package: MouseGastrulationData Version: 1.25.0 Command: /home/biocbuild/bbs-3.23-bioc/R/bin/R CMD check --install=check:MouseGastrulationData.install-out.txt --library=/home/biocbuild/bbs-3.23-bioc/R/site-library --timings MouseGastrulationData_1.25.0.tar.gz StartedAt: 2025-11-13 12:46:02 -0500 (Thu, 13 Nov 2025) EndedAt: 2025-11-13 12:53:21 -0500 (Thu, 13 Nov 2025) EllapsedTime: 439.3 seconds RetCode: 0 Status: OK CheckDir: MouseGastrulationData.Rcheck Warnings: 0