Package: MouseAgingData Version: 1.7.0 Command: /home/biocbuild/bbs-3.23-bioc/R/bin/R CMD build --keep-empty-dirs --no-resave-data MouseAgingData StartedAt: 2025-11-13 11:31:57 -0500 (Thu, 13 Nov 2025) EndedAt: 2025-11-13 11:33:04 -0500 (Thu, 13 Nov 2025) EllapsedTime: 66.6 seconds RetCode: 0 Status: OK PackageFile: MouseAgingData_1.7.0.tar.gz PackageFileSize: 1.348 MiB