Package: MouseAgingData Version: 1.7.0 Maintainer: Tram Nguyen MaintainerEmail: Tram_Nguyen at hms.harvard.edu git_url: https://git.bioconductor.org/packages/MouseAgingData git_branch: devel git_last_commit: 89f92c6 git_last_commit_date: 2025-10-29 10:06:18 -0500 (Wed, 29 Oct 2025)