Package: MethylSeqData Version: 1.21.0 Command: /home/biocbuild/bbs-3.23-bioc/R/bin/R CMD build --keep-empty-dirs --no-resave-data MethylSeqData StartedAt: 2025-11-13 11:30:46 -0500 (Thu, 13 Nov 2025) EndedAt: 2025-11-13 11:31:38 -0500 (Thu, 13 Nov 2025) EllapsedTime: 51.7 seconds RetCode: 0 Status: OK PackageFile: MethylSeqData_1.21.0.tar.gz PackageFileSize: 226.9 KiB