Package: MethylAidData Version: 1.43.0 Command: /home/biocbuild/bbs-3.23-bioc/R/bin/R CMD INSTALL MethylAidData StartedAt: 2025-11-13 11:01:29 -0500 (Thu, 13 Nov 2025) EndedAt: 2025-11-13 11:01:59 -0500 (Thu, 13 Nov 2025) EllapsedTime: 29.6 seconds RetCode: 0 Status: OK