Package: MetaScope Version: 1.99.10 Command: /home/biocbuild/bbs-3.23-bioc/R/bin/R CMD INSTALL MetaScope StartedAt: 2025-11-11 11:01:05 -0500 (Tue, 11 Nov 2025) EndedAt: 2025-11-11 11:01:15 -0500 (Tue, 11 Nov 2025) EllapsedTime: 9.2 seconds RetCode: 0 Status: OK