Package: MetaScope Version: 1.99.10 Command: /home/biocbuild/bbs-3.23-bioc/R/bin/R CMD check --install=check:MetaScope.install-out.txt --library=/home/biocbuild/bbs-3.23-bioc/R/site-library --timings MetaScope_1.99.10.tar.gz StartedAt: 2025-11-11 12:37:19 -0500 (Tue, 11 Nov 2025) EndedAt: 2025-11-11 12:49:54 -0500 (Tue, 11 Nov 2025) EllapsedTime: 755.0 seconds RetCode: 0 Status: WARNINGS CheckDir: MetaScope.Rcheck Warnings: 1