Package: MetaScope Version: 1.99.10 Maintainer: Sean Lu MaintainerEmail: seanlu96 at gmail.com git_url: https://git.bioconductor.org/packages/MetaScope git_branch: devel git_last_commit: d49e047 git_last_commit_date: 2025-11-07 11:54:11 -0500 (Fri, 07 Nov 2025)