Package: MerfishData Version: 1.13.0 Command: /home/biocbuild/bbs-3.23-bioc/R/bin/R CMD INSTALL MerfishData StartedAt: 2025-11-11 10:59:25 -0500 (Tue, 11 Nov 2025) EndedAt: 2025-11-11 10:59:51 -0500 (Tue, 11 Nov 2025) EllapsedTime: 26.2 seconds RetCode: 0 Status: OK