Package: MerfishData Version: 1.13.0 Command: /home/biocbuild/bbs-3.23-bioc/R/bin/R CMD check --install=check:MerfishData.install-out.txt --library=/home/biocbuild/bbs-3.23-bioc/R/site-library --timings MerfishData_1.13.0.tar.gz StartedAt: 2025-11-11 12:36:57 -0500 (Tue, 11 Nov 2025) EndedAt: 2025-11-11 12:56:06 -0500 (Tue, 11 Nov 2025) EllapsedTime: 1149.6 seconds RetCode: 0 Status: OK CheckDir: MerfishData.Rcheck Warnings: 0