Package: MerfishData Version: 1.13.0 Command: /home/biocbuild/bbs-3.23-bioc/R/bin/R CMD build --keep-empty-dirs --no-resave-data MerfishData StartedAt: 2025-11-11 11:29:06 -0500 (Tue, 11 Nov 2025) EndedAt: 2025-11-11 11:37:33 -0500 (Tue, 11 Nov 2025) EllapsedTime: 507.0 seconds RetCode: 0 Status: OK PackageFile: MerfishData_1.13.0.tar.gz PackageFileSize: 24.29 MiB