Package: MUGAExampleData Version: 1.31.0 Command: /home/biocbuild/bbs-3.23-bioc/R/bin/R CMD build --keep-empty-dirs --no-resave-data MUGAExampleData StartedAt: 2025-11-11 11:32:41 -0500 (Tue, 11 Nov 2025) EndedAt: 2025-11-11 11:32:53 -0500 (Tue, 11 Nov 2025) EllapsedTime: 11.8 seconds RetCode: 0 Status: OK PackageFile: MUGAExampleData_1.31.0.tar.gz PackageFileSize: 88.65 MiB