Package: MSMB Version: 1.29.0 Command: /home/biocbuild/bbs-3.23-bioc/R/bin/R CMD check --install=check:MSMB.install-out.txt --library=/home/biocbuild/bbs-3.23-bioc/R/site-library --timings MSMB_1.29.0.tar.gz StartedAt: 2025-11-11 12:42:02 -0500 (Tue, 11 Nov 2025) EndedAt: 2025-11-11 12:42:23 -0500 (Tue, 11 Nov 2025) EllapsedTime: 21.6 seconds RetCode: 0 Status: OK CheckDir: MSMB.Rcheck Warnings: 0