Package: MOFAdata Version: 1.27.0 Command: /home/biocbuild/bbs-3.23-bioc/R/bin/R CMD check --install=check:MOFAdata.install-out.txt --library=/home/biocbuild/bbs-3.23-bioc/R/site-library --timings MOFAdata_1.27.0.tar.gz StartedAt: 2025-11-11 12:40:48 -0500 (Tue, 11 Nov 2025) EndedAt: 2025-11-11 12:42:04 -0500 (Tue, 11 Nov 2025) EllapsedTime: 75.8 seconds RetCode: 0 Status: OK CheckDir: MOFAdata.Rcheck Warnings: 0