Package: MMDiffBamSubset Version: 1.47.0 Command: /home/biocbuild/bbs-3.23-bioc/R/bin/R CMD INSTALL MMDiffBamSubset StartedAt: 2025-11-11 10:55:19 -0500 (Tue, 11 Nov 2025) EndedAt: 2025-11-11 10:55:21 -0500 (Tue, 11 Nov 2025) EllapsedTime: 2.3 seconds RetCode: 0 Status: OK