Package: MEEBOdata Version: 1.49.0 Command: /home/biocbuild/bbs-3.23-bioc/R/bin/R CMD INSTALL MEEBOdata StartedAt: 2025-11-11 10:55:34 -0500 (Tue, 11 Nov 2025) EndedAt: 2025-11-11 10:55:36 -0500 (Tue, 11 Nov 2025) EllapsedTime: 2.7 seconds RetCode: 0 Status: OK