Package: MEDIPSData Version: 1.47.0 Command: /home/biocbuild/bbs-3.23-bioc/R/bin/R CMD build --keep-empty-dirs --no-resave-data MEDIPSData StartedAt: 2025-11-11 11:29:02 -0500 (Tue, 11 Nov 2025) EndedAt: 2025-11-11 11:29:15 -0500 (Tue, 11 Nov 2025) EllapsedTime: 13.6 seconds RetCode: 0 Status: OK PackageFile: MEDIPSData_1.47.0.tar.gz PackageFileSize: 158.4 MiB