Package: LungCancerLines Version: 0.49.0 Command: /home/biocbuild/bbs-3.23-bioc/R/bin/R CMD check --install=check:LungCancerLines.install-out.txt --library=/home/biocbuild/bbs-3.23-bioc/R/site-library --timings LungCancerLines_0.49.0.tar.gz StartedAt: 2025-11-11 12:35:11 -0500 (Tue, 11 Nov 2025) EndedAt: 2025-11-11 12:36:21 -0500 (Tue, 11 Nov 2025) EllapsedTime: 70.2 seconds RetCode: 0 Status: OK CheckDir: LungCancerLines.Rcheck Warnings: 0