Package: LiebermanAidenHiC2009 Version: 0.49.0 Command: /home/biocbuild/bbs-3.23-bioc/R/bin/R CMD check --install=check:LiebermanAidenHiC2009.install-out.txt --library=/home/biocbuild/bbs-3.23-bioc/R/site-library --timings LiebermanAidenHiC2009_0.49.0.tar.gz StartedAt: 2025-11-11 12:33:43 -0500 (Tue, 11 Nov 2025) EndedAt: 2025-11-11 12:35:33 -0500 (Tue, 11 Nov 2025) EllapsedTime: 110.2 seconds RetCode: 0 Status: WARNINGS CheckDir: LiebermanAidenHiC2009.Rcheck Warnings: 2