Package: LiebermanAidenHiC2009 Version: 0.49.0 Command: /home/biocbuild/bbs-3.23-bioc/R/bin/R CMD build --keep-empty-dirs --no-resave-data LiebermanAidenHiC2009 StartedAt: 2025-11-11 11:26:30 -0500 (Tue, 11 Nov 2025) EndedAt: 2025-11-11 11:27:40 -0500 (Tue, 11 Nov 2025) EllapsedTime: 69.9 seconds RetCode: 0 Status: OK PackageFile: LiebermanAidenHiC2009_0.49.0.tar.gz PackageFileSize: 10.38 MiB