Package: LegATo Version: 1.5.0 Command: /home/biocbuild/bbs-3.23-bioc/R/bin/R CMD INSTALL LegATo StartedAt: 2025-11-13 11:04:26 -0500 (Thu, 13 Nov 2025) EndedAt: 2025-11-13 11:04:46 -0500 (Thu, 13 Nov 2025) EllapsedTime: 20.3 seconds RetCode: 0 Status: OK