Package: LegATo Version: 1.5.0 Command: /home/biocbuild/bbs-3.23-bioc/R/bin/R CMD build --keep-empty-dirs --no-resave-data LegATo StartedAt: 2025-11-13 11:26:53 -0500 (Thu, 13 Nov 2025) EndedAt: 2025-11-13 11:28:30 -0500 (Thu, 13 Nov 2025) EllapsedTime: 96.8 seconds RetCode: 0 Status: OK PackageFile: LegATo_1.5.0.tar.gz PackageFileSize: 1.236 MiB