Package: KOdata Version: 1.37.0 Command: /home/biocbuild/bbs-3.23-bioc/R/bin/R CMD build --keep-empty-dirs --no-resave-data KOdata StartedAt: 2025-11-11 11:26:23 -0500 (Tue, 11 Nov 2025) EndedAt: 2025-11-11 11:26:26 -0500 (Tue, 11 Nov 2025) EllapsedTime: 3.0 seconds RetCode: 0 Status: OK PackageFile: KOdata_1.37.0.tar.gz PackageFileSize: 31.77 MiB