Package: KOdata Version: 1.37.0 Maintainer: Shana White MaintainerEmail: vandersm at mail.uc.edu git_url: https://git.bioconductor.org/packages/KOdata git_branch: devel git_last_commit: 42652c7 git_last_commit_date: 2025-10-29 09:59:02 -0500 (Wed, 29 Oct 2025)