Package: KEGGdzPathwaysGEO Version: 1.49.0 Command: /home/biocbuild/bbs-3.23-bioc/R/bin/R CMD check --install=check:KEGGdzPathwaysGEO.install-out.txt --library=/home/biocbuild/bbs-3.23-bioc/R/site-library --timings KEGGdzPathwaysGEO_1.49.0.tar.gz StartedAt: 2025-11-13 12:37:03 -0500 (Thu, 13 Nov 2025) EndedAt: 2025-11-13 12:42:34 -0500 (Thu, 13 Nov 2025) EllapsedTime: 330.4 seconds RetCode: 0 Status: OK CheckDir: KEGGdzPathwaysGEO.Rcheck Warnings: 0