Package: KEGGandMetacoreDzPathwaysGEO Version: 1.31.0 Command: /home/biocbuild/bbs-3.23-bioc/R/bin/R CMD INSTALL KEGGandMetacoreDzPathwaysGEO StartedAt: 2025-11-13 10:56:21 -0500 (Thu, 13 Nov 2025) EndedAt: 2025-11-13 10:56:24 -0500 (Thu, 13 Nov 2025) EllapsedTime: 3.3 seconds RetCode: 0 Status: OK