Package: KEGGandMetacoreDzPathwaysGEO Version: 1.31.0 Command: /home/biocbuild/bbs-3.23-bioc/R/bin/R CMD check --install=check:KEGGandMetacoreDzPathwaysGEO.install-out.txt --library=/home/biocbuild/bbs-3.23-bioc/R/site-library --timings KEGGandMetacoreDzPathwaysGEO_1.31.0.tar.gz StartedAt: 2025-11-11 12:32:21 -0500 (Tue, 11 Nov 2025) EndedAt: 2025-11-11 12:33:21 -0500 (Tue, 11 Nov 2025) EllapsedTime: 59.3 seconds RetCode: 0 Status: OK CheckDir: KEGGandMetacoreDzPathwaysGEO.Rcheck Warnings: 0