Package: JohnsonKinaseData Version: 1.7.0 Command: /home/biocbuild/bbs-3.23-bioc/R/bin/R CMD INSTALL JohnsonKinaseData StartedAt: 2025-11-11 10:57:05 -0500 (Tue, 11 Nov 2025) EndedAt: 2025-11-11 10:57:19 -0500 (Tue, 11 Nov 2025) EllapsedTime: 13.2 seconds RetCode: 0 Status: OK