Package: JohnsonKinaseData Version: 1.7.0 Command: /home/biocbuild/bbs-3.23-bioc/R/bin/R CMD build --keep-empty-dirs --no-resave-data JohnsonKinaseData StartedAt: 2025-11-11 11:25:50 -0500 (Tue, 11 Nov 2025) EndedAt: 2025-11-11 11:29:32 -0500 (Tue, 11 Nov 2025) EllapsedTime: 221.5 seconds RetCode: 0 Status: OK PackageFile: JohnsonKinaseData_1.7.0.tar.gz PackageFileSize: 315.1 KiB