Package: JASPAR2016 Version: 1.39.0 Command: /home/biocbuild/bbs-3.23-bioc/R/bin/R CMD check --install=check:JASPAR2016.install-out.txt --library=/home/biocbuild/bbs-3.23-bioc/R/site-library --timings JASPAR2016_1.39.0.tar.gz StartedAt: 2025-11-11 12:32:09 -0500 (Tue, 11 Nov 2025) EndedAt: 2025-11-11 12:32:24 -0500 (Tue, 11 Nov 2025) EllapsedTime: 15.7 seconds RetCode: 0 Status: OK CheckDir: JASPAR2016.Rcheck Warnings: 0