Package: JASPAR2016 Version: 1.39.0 Maintainer: Ge Tan MaintainerEmail: ge_tan at live.com git_url: https://git.bioconductor.org/packages/JASPAR2016 git_branch: devel git_last_commit: 3f35e9b git_last_commit_date: 2025-10-29 09:57:20 -0500 (Wed, 29 Oct 2025)