Package: Iyer517 Version: 1.53.0 Command: /home/biocbuild/bbs-3.23-bioc/R/bin/R CMD INSTALL Iyer517 StartedAt: 2025-11-11 10:56:02 -0500 (Tue, 11 Nov 2025) EndedAt: 2025-11-11 10:56:05 -0500 (Tue, 11 Nov 2025) EllapsedTime: 3.3 seconds RetCode: 0 Status: OK