Package: IlluminaDataTestFiles Version: 1.49.0 Command: /home/biocbuild/bbs-3.23-bioc/R/bin/R CMD check --install=check:IlluminaDataTestFiles.install-out.txt --library=/home/biocbuild/bbs-3.23-bioc/R/site-library --timings IlluminaDataTestFiles_1.49.0.tar.gz StartedAt: 2025-11-13 12:35:22 -0500 (Thu, 13 Nov 2025) EndedAt: 2025-11-13 12:36:04 -0500 (Thu, 13 Nov 2025) EllapsedTime: 42.6 seconds RetCode: 0 Status: OK CheckDir: IlluminaDataTestFiles.Rcheck Warnings: 0