Package: Illumina450ProbeVariants.db Version: 1.47.0 Maintainer: Tiffany Morris MaintainerEmail: tiffany.morris at ucl.ac.uk git_url: https://git.bioconductor.org/packages/Illumina450ProbeVariants.db git_branch: devel git_last_commit: d58d0d2 git_last_commit_date: 2025-10-29 09:54:19 -0500 (Wed, 29 Oct 2025)