Package: IHWpaper Version: 1.39.0 Command: /home/biocbuild/bbs-3.23-bioc/R/bin/R CMD check --install=check:IHWpaper.install-out.txt --library=/home/biocbuild/bbs-3.23-bioc/R/site-library --timings IHWpaper_1.39.0.tar.gz StartedAt: 2025-11-11 12:30:55 -0500 (Tue, 11 Nov 2025) EndedAt: 2025-11-11 12:39:45 -0500 (Tue, 11 Nov 2025) EllapsedTime: 529.5 seconds RetCode: 0 Status: OK CheckDir: IHWpaper.Rcheck Warnings: 0