Package: HumanAffyData Version: 1.37.0 Command: /home/biocbuild/bbs-3.23-bioc/R/bin/R CMD INSTALL HumanAffyData StartedAt: 2025-11-13 10:57:42 -0500 (Thu, 13 Nov 2025) EndedAt: 2025-11-13 10:57:51 -0500 (Thu, 13 Nov 2025) EllapsedTime: 8.9 seconds RetCode: 0 Status: OK